BEGIN:VCALENDAR
VERSION:2.0
PRODID:icalendar-ruby
CALSCALE:GREGORIAN
METHOD:PUBLISH
BEGIN:VEVENT
DTSTAMP:20260421T021813Z
UID:26-1251859@swcnaz.org
DTSTART:20220619T154500Z
DTEND:20220619T170000Z
CLASS:PUBLIC
CREATED:20260420T190140
DESCRIPTION:
LAST-MODIFIED:20260420T190140
LOCATION:319 Crabb River Rd.\, Richmond\, TX 77469
SUMMARY:Sunday Worship
URL;VALUE=URI:https://www.swcnaz.org/events/sunday-worship/2022-06-19
END:VEVENT
END:VCALENDAR
