BEGIN:VCALENDAR
VERSION:2.0
PRODID:icalendar-ruby
CALSCALE:GREGORIAN
METHOD:PUBLISH
BEGIN:VEVENT
DTSTAMP:20260420T195436Z
UID:26-1250377@swcnaz.org
DTSTART:20220522T154500Z
DTEND:20220522T170000Z
CLASS:PUBLIC
CREATED:20260420T135031
DESCRIPTION:
LAST-MODIFIED:20260420T135031
LOCATION:319 Crabb River Rd.\, Richmond\, TX 77469
SUMMARY:Sunday Worship
URL;VALUE=URI:https://www.swcnaz.org/events/sunday-worship/2022-05-22
END:VEVENT
END:VCALENDAR
