BEGIN:VCALENDAR
VERSION:2.0
PRODID:icalendar-ruby
CALSCALE:GREGORIAN
METHOD:PUBLISH
BEGIN:VEVENT
DTSTAMP:20260420T162930Z
UID:26-1249636@swcnaz.org
DTSTART:20220508T154500Z
DTEND:20220508T170000Z
CLASS:PUBLIC
CREATED:20260420T111620
DESCRIPTION:
LAST-MODIFIED:20260420T111620
LOCATION:319 Crabb River Rd.\, Richmond\, TX 77469
SUMMARY:Sunday Worship
URL;VALUE=URI:https://www.swcnaz.org/events/sunday-worship/2022-05-08
END:VEVENT
END:VCALENDAR
