BEGIN:VCALENDAR
VERSION:2.0
PRODID:icalendar-ruby
CALSCALE:GREGORIAN
METHOD:PUBLISH
BEGIN:VEVENT
DTSTAMP:20260420T145242Z
UID:26-1248896@swcnaz.org
DTSTART:20220501T154500Z
DTEND:20220501T170000Z
CLASS:PUBLIC
CREATED:20260420T084221
DESCRIPTION:
LAST-MODIFIED:20260420T084221
LOCATION:319 Crabb River Rd.\, Richmond\, TX 77469
SUMMARY:Sunday Worship
URL;VALUE=URI:https://www.swcnaz.org/events/sunday-worship/2022-05-01
END:VEVENT
END:VCALENDAR
