BEGIN:VCALENDAR
VERSION:2.0
PRODID:icalendar-ruby
CALSCALE:GREGORIAN
METHOD:PUBLISH
BEGIN:VEVENT
DTSTAMP:20260420T115649Z
UID:26-1248155@swcnaz.org
DTSTART:20220417T154500Z
DTEND:20220417T170000Z
CLASS:PUBLIC
CREATED:20260420T060643
DESCRIPTION:
LAST-MODIFIED:20260420T060643
LOCATION:319 Crabb River Rd.\, Richmond\, TX 77469
SUMMARY:Sunday Worship
URL;VALUE=URI:https://www.swcnaz.org/events/sunday-worship/2022-04-17
END:VEVENT
END:VCALENDAR
