BEGIN:VCALENDAR
VERSION:2.0
PRODID:icalendar-ruby
CALSCALE:GREGORIAN
METHOD:PUBLISH
BEGIN:VEVENT
DTSTAMP:20260420T082429Z
UID:26-1247414@swcnaz.org
DTSTART:20220403T154500Z
DTEND:20220403T170000Z
CLASS:PUBLIC
CREATED:20260420T010040
DESCRIPTION:
LAST-MODIFIED:20260420T010040
LOCATION:319 Crabb River Rd.\, Richmond\, TX 77469
SUMMARY:Sunday Worship
URL;VALUE=URI:https://www.swcnaz.org/events/sunday-worship/2022-04-03
END:VEVENT
END:VCALENDAR
